BEGIN:VCALENDAR
VERSION:2.0
PRODID:-//Squarespace Inc/Squarespace 6//v6//EN
BEGIN:VEVENT
UID:5a865ec271c10bc44d9f0218@squarespace.com
DTSTAMP:20180309T042453Z
DTSTART:20180316T220000Z
DTEND:20180317T000000Z
SUMMARY:Blue Light Disco
END:VEVENT
END:VCALENDAR
