BEGIN:VCALENDAR
VERSION:2.0
PRODID:-//Squarespace Inc/Squarespace 6//v6//EN
BEGIN:VEVENT
UID:5a5c1558085229750fb35360@squarespace.com
DTSTAMP:20180216T043712Z
DTSTART:20180216T230000Z
DTEND:20180217T010000Z
SUMMARY:Blue Light Disco
END:VEVENT
END:VCALENDAR
