BEGIN:VCALENDAR
VERSION:2.0
PRODID:-//Squarespace Inc/Squarespace 6//v6//EN
BEGIN:VEVENT
UID:5a865b339140b70db773189f@squarespace.com
DTSTAMP:20180216T041707Z
DTSTART:20180630T230000Z
DTEND:20180701T000000Z
SUMMARY:Birthday Draw!
END:VEVENT
END:VCALENDAR
