BEGIN:VCALENDAR
VERSION:2.0
PRODID:-//Squarespace Inc/Squarespace 6//v6//EN
BEGIN:VEVENT
UID:5a865b1ef9619a7edfeebf4f@squarespace.com
DTSTAMP:20180216T041644Z
DTSTART:20180526T230000Z
DTEND:20180527T000000Z
SUMMARY:Birthday Draw!
END:VEVENT
END:VCALENDAR
