BEGIN:VCALENDAR
VERSION:2.0
PRODID:-//Squarespace Inc/Squarespace 6//v6//EN
BEGIN:VEVENT
UID:5a865ad2e2c48398a10cff66@squarespace.com
DTSTAMP:20180216T041552Z
DTSTART:20180428T230000Z
DTEND:20180429T000000Z
SUMMARY:Birthday Draw!
END:VEVENT
END:VCALENDAR
