BEGIN:VCALENDAR
VERSION:2.0
PRODID:-//Squarespace Inc/Squarespace 6//v6//EN
BEGIN:VEVENT
UID:5a865b04652dea5036e24fe2@squarespace.com
DTSTAMP:20180216T041621Z
DTSTART:20180331T230000Z
DTEND:20180401T000000Z
SUMMARY:Birthday Draw!
END:VEVENT
END:VCALENDAR
