BEGIN:VCALENDAR
VERSION:2.0
PRODID:-//Squarespace Inc/Squarespace 6//v6//EN
BEGIN:VEVENT
UID:5a5597a9085229d58dfe211d@squarespace.com
DTSTAMP:20180216T041514Z
DTSTART:20180225T000000Z
DTEND:20180225T010000Z
SUMMARY:Birthday Draw!
END:VEVENT
END:VCALENDAR
