BEGIN:VCALENDAR
VERSION:2.0
PRODID:-//Squarespace Inc/Squarespace 6//v6//EN
BEGIN:VEVENT
UID:5a4c2c4b4192021bcbbd62c2@squarespace.com
DTSTAMP:20180115T005958Z
DTSTART:20180225T013000Z
DTEND:20180225T023000Z
SUMMARY:Monster Raffle
END:VEVENT
END:VCALENDAR
