BEGIN:VCALENDAR
VERSION:2.0
PRODID:-//Squarespace Inc/Squarespace 6//v6//EN
BEGIN:VEVENT
UID:5a71235453450aa8587dcaeb@squarespace.com
DTSTAMP:20180131T020107Z
DTSTART:20180211T010000Z
DTEND:20180211T043000Z
SUMMARY:Music: Bob Turk
END:VEVENT
END:VCALENDAR
