BEGIN:VCALENDAR
VERSION:2.0
PRODID:-//Squarespace Inc/Squarespace 6//v6//EN
BEGIN:VEVENT
UID:5a8657e10852299dcee47e25@squarespace.com
DTSTAMP:20180216T040300Z
DTSTART:20180513T000000Z
DTEND:20180513T033000Z
SUMMARY:Music: Phil Dalby
END:VEVENT
END:VCALENDAR
