BEGIN:VCALENDAR
VERSION:2.0
PRODID:-//Squarespace Inc/Squarespace 6//v6//EN
BEGIN:VEVENT
UID:5a8657b5419202886130cd06@squarespace.com
DTSTAMP:20180216T040233Z
DTSTART:20180512T000000Z
DTEND:20180512T033000Z
SUMMARY:Music: Gaz + PJ Duo
END:VEVENT
END:VCALENDAR
