BEGIN:VCALENDAR
VERSION:2.0
PRODID:-//Squarespace Inc/Squarespace 6//v6//EN
BEGIN:VEVENT
UID:5a865891e2c48398a10c9537@squarespace.com
DTSTAMP:20180216T040556Z
DTSTART:20180527T000000Z
DTEND:20180527T033000Z
SUMMARY:Music: Mark Haze
END:VEVENT
END:VCALENDAR
