BEGIN:VCALENDAR
VERSION:2.0
PRODID:-//Squarespace Inc/Squarespace 6//v6//EN
BEGIN:VEVENT
UID:5a8657fd9140b70db7727eb9@squarespace.com
DTSTAMP:20180216T040332Z
DTSTART:20180519T000000Z
DTEND:20180519T033000Z
SUMMARY:Music: Fat Sam + The Cool Chick
END:VEVENT
END:VCALENDAR
