BEGIN:VCALENDAR
VERSION:2.0
PRODID:-//Squarespace Inc/Squarespace 6//v6//EN
BEGIN:VEVENT
UID:5a865791652dea5036e1abae@squarespace.com
DTSTAMP:20180216T040149Z
DTSTART:20180505T000000Z
DTEND:20180505T033000Z
SUMMARY:Music: All Night Long
END:VEVENT
END:VCALENDAR
