BEGIN:VCALENDAR
VERSION:2.0
PRODID:-//Squarespace Inc/Squarespace 6//v6//EN
BEGIN:VEVENT
UID:5a712ef48165f58f168ff22a@squarespace.com
DTSTAMP:20180131T025043Z
DTSTART:20180324T000000Z
DTEND:20180324T033000Z
SUMMARY:Music: Mark Haze
END:VEVENT
END:VCALENDAR
