BEGIN:VCALENDAR
VERSION:2.0
PRODID:-//Squarespace Inc/Squarespace 6//v6//EN
BEGIN:VEVENT
UID:5a712e95652deacdc861f587@squarespace.com
DTSTAMP:20180216T041835Z
DTSTART:20180311T010000Z
DTEND:20180311T043000Z
SUMMARY:Music: Anthony Tenace
END:VEVENT
END:VCALENDAR
