BEGIN:VCALENDAR
VERSION:2.0
PRODID:-//Squarespace Inc/Squarespace 6//v6//EN
BEGIN:VEVENT
UID:5a8656d60d929736e6376b76@squarespace.com
DTSTAMP:20180216T035838Z
DTSTART:20180421T000000Z
DTEND:20180421T033000Z
SUMMARY:Music: PJ Duo
END:VEVENT
END:VCALENDAR
