BEGIN:VCALENDAR
VERSION:2.0
PRODID:-//Squarespace Inc/Squarespace 6//v6//EN
BEGIN:VEVENT
UID:5a97a090652dea1afc813c72@squarespace.com
DTSTAMP:20180301T064204Z
DTSTART:20180401T190000Z
DTEND:20180402T233000Z
SUMMARY:Music: Mix Tape
END:VEVENT
END:VCALENDAR
