BEGIN:VCALENDAR
VERSION:2.0
PRODID:-//Squarespace Inc/Squarespace 6//v6//EN
BEGIN:VEVENT
UID:5a712f45ec212dcf0ff561fe@squarespace.com
DTSTAMP:20180131T025205Z
DTSTART:20180401T000000Z
DTEND:20180401T033000Z
SUMMARY:Music: Intensity
END:VEVENT
END:VCALENDAR
