BEGIN:VCALENDAR
VERSION:2.0
PRODID:-//Squarespace Inc/Squarespace 6//v6//EN
BEGIN:VEVENT
UID:5b372c25f950b774331ea8b7@squarespace.com
DTSTAMP:20180630T070734Z
DTSTART:20180707T000000Z
DTEND:20180707T033000Z
SUMMARY:Music: Smithers
END:VEVENT
END:VCALENDAR
