BEGIN:VCALENDAR
VERSION:2.0
PRODID:-//Squarespace Inc/Squarespace 6//v6//EN
BEGIN:VEVENT
UID:5a865bfdf9619a7edfeee7f4@squarespace.com
DTSTAMP:20180630T070717Z
DTSTART:20180630T000000Z
DTEND:20180630T033000Z
SUMMARY:Music: Killing Time
END:VEVENT
END:VCALENDAR
