BEGIN:VCALENDAR
VERSION:2.0
PRODID:-//Squarespace Inc/Squarespace 6//v6//EN
BEGIN:VEVENT
UID:5a712f279140b79f3b7967da@squarespace.com
DTSTAMP:20180216T042013Z
DTSTART:20180331T000000Z
DTEND:20180331T033000Z
SUMMARY:Music: Toucan Rock
END:VEVENT
END:VCALENDAR
