BEGIN:VCALENDAR
VERSION:2.0
PRODID:-//Squarespace Inc/Squarespace 6//v6//EN
BEGIN:VEVENT
UID:5a712f0a8165f58f168ff7a0@squarespace.com
DTSTAMP:20180131T025110Z
DTSTART:20180325T000000Z
DTEND:20180325T033000Z
SUMMARY:Music: Ray McCartney
END:VEVENT
END:VCALENDAR
