BEGIN:VCALENDAR
VERSION:2.0
PRODID:-//Squarespace Inc/Squarespace 6//v6//EN
BEGIN:VEVENT
UID:5a865bc4f9619a7edfeeddb9@squarespace.com
DTSTAMP:20180216T041940Z
DTSTART:20180623T000000Z
DTEND:20180623T033000Z
SUMMARY:Music: Mick Tenace
END:VEVENT
END:VCALENDAR
