BEGIN:VCALENDAR
VERSION:2.0
PRODID:-//Squarespace Inc/Squarespace 6//v6//EN
BEGIN:VEVENT
UID:5a865681e4966bc895e624e4@squarespace.com
DTSTAMP:20180216T041916Z
DTSTART:20180414T000000Z
DTEND:20180414T033000Z
SUMMARY:Music: Mick Tenace
END:VEVENT
END:VCALENDAR
