BEGIN:VCALENDAR
VERSION:2.0
PRODID:-//Squarespace Inc/Squarespace 6//v6//EN
BEGIN:VEVENT
UID:5a712e7df9619acaaa882a1d@squarespace.com
DTSTAMP:20180131T024848Z
DTSTART:20180310T010000Z
DTEND:20180310T043000Z
SUMMARY:Music: Phil Dalby
END:VEVENT
END:VCALENDAR
