BEGIN:VCALENDAR
VERSION:2.0
PRODID:-//Squarespace Inc/Squarespace 6//v6//EN
BEGIN:VEVENT
UID:5a8656a9652dea5036e17fc6@squarespace.com
DTSTAMP:20180216T035749Z
DTSTART:20180415T000000Z
DTEND:20180415T033000Z
SUMMARY:Music: Highway 39
END:VEVENT
END:VCALENDAR
