BEGIN:VCALENDAR
VERSION:2.0
PRODID:-//Squarespace Inc/Squarespace 6//v6//EN
BEGIN:VEVENT
UID:5b372bce575d1fcdb1d0674e@squarespace.com
DTSTAMP:20180630T070920Z
DTSTART:20180708T000000Z
DTEND:20180708T033000Z
SUMMARY:MUSIC: Maurice Milani
END:VEVENT
END:VCALENDAR
