BEGIN:VCALENDAR
VERSION:2.0
PRODID:-//Squarespace Inc/Squarespace 6//v6//EN
BEGIN:VEVENT
UID:5a712edfec212dcf0ff549b0@squarespace.com
DTSTAMP:20180131T025023Z
DTSTART:20180318T000000Z
DTEND:20180318T033000Z
SUMMARY:Music: All Night Long
END:VEVENT
END:VCALENDAR
