BEGIN:VCALENDAR
VERSION:2.0
PRODID:-//Squarespace Inc/Squarespace 6//v6//EN
BEGIN:VEVENT
UID:5a712eb2e4966be6e6e037d6@squarespace.com
DTSTAMP:20180131T024959Z
DTSTART:20180317T000000Z
DTEND:20180317T033000Z
SUMMARY:Music: Take Cover
END:VEVENT
END:VCALENDAR
