BEGIN:VCALENDAR
VERSION:2.0
PRODID:-//Squarespace Inc/Squarespace 6//v6//EN
BEGIN:VEVENT
UID:5a712e4ef9619acaaa881dcf@squarespace.com
DTSTAMP:20180131T024823Z
DTSTART:20180304T010000Z
DTEND:20180304T043000Z
SUMMARY:Music: Killing Time
END:VEVENT
END:VCALENDAR
