BEGIN:VCALENDAR
VERSION:2.0
PRODID:-//Squarespace Inc/Squarespace 6//v6//EN
BEGIN:VEVENT
UID:5e0157f5d38caa7a52168a46@squarespace.com
DTSTAMP:20191224T001248Z
DTSTART:20200105T013000Z
DTEND:20200105T045900Z
SUMMARY:Maurice Milani
END:VEVENT
END:VCALENDAR
