BEGIN:VCALENDAR
VERSION:2.0
PRODID:-//Squarespace Inc/Squarespace 6//v6//EN
BEGIN:VEVENT
UID:5dd3b959eab1f9276f4b4795@squarespace.com
DTSTAMP:20191224T000902Z
DTSTART:20191228T013000Z
DTEND:20191228T045900Z
SUMMARY:Maurice Milani
END:VEVENT
END:VCALENDAR
