BEGIN:VCALENDAR
VERSION:2.0
PRODID:-//Squarespace Inc/Squarespace 6//v6//EN
BEGIN:VEVENT
UID:5d99370bfc48d13091277a39@squarespace.com
DTSTAMP:20200110T055746Z
DTSTART:20200202T020000Z
DTEND:20200202T041500Z
SUMMARY:Ramble Tamble - CCR
END:VEVENT
END:VCALENDAR
