BEGIN:VCALENDAR
VERSION:2.0
PRODID:-//Squarespace Inc/Squarespace 6//v6//EN
BEGIN:VEVENT
UID:5a865c8f71c10bc44d9e9cab@squarespace.com
DTSTAMP:20180719T040107Z
DTSTART:20180610T000000Z
DTEND:20180610T033000Z
SUMMARY:Music: Maurice Milani
END:VEVENT
END:VCALENDAR
