BEGIN:VCALENDAR
VERSION:2.0
PRODID:-//Squarespace Inc/Squarespace 6//v6//EN
BEGIN:VEVENT
UID:5e3fe8624b6b8940ee9d21fe@squarespace.com
DTSTAMP:20200209T110947Z
DTSTART:20191229T010000Z
DTEND:20191229T044500Z
SUMMARY:Toucan Rock &amp\; Monthly Birthday Draw
END:VEVENT
END:VCALENDAR
