BEGIN:VCALENDAR
VERSION:2.0
PRODID:-//Squarespace Inc/Squarespace 6//v6//EN
BEGIN:VEVENT
UID:5dd3b8db0fb697248c2a926e@squarespace.com
DTSTAMP:20191119T094311Z
DTSTART:20191222T010000Z
DTEND:20191222T044500Z
SUMMARY:Toucan Rock
END:VEVENT
END:VCALENDAR
