BEGIN:VCALENDAR
VERSION:2.0
PRODID:-//Squarespace Inc/Squarespace 6//v6//EN
BEGIN:VEVENT
UID:5b15163daa4a992f1894359b@squarespace.com
DTSTAMP:20180604T103700Z
DTSTART:20180611T000000Z
DTEND:20180611T033000Z
SUMMARY:Music: Toucan Rock
END:VEVENT
END:VCALENDAR
