BEGIN:VCALENDAR
VERSION:2.0
PRODID:-//Squarespace Inc/Squarespace 6//v6//EN
BEGIN:VEVENT
UID:5a865878ec212d414d10aff6@squarespace.com
DTSTAMP:20180604T103645Z
DTSTART:20180526T000000Z
DTEND:20180526T033000Z
SUMMARY:Music: Toucan Rock
END:VEVENT
END:VCALENDAR
