BEGIN:VCALENDAR
VERSION:2.0
PRODID:-//Squarespace Inc/Squarespace 6//v6//EN
BEGIN:VEVENT
UID:5a712e070d9297b0583915b6@squarespace.com
DTSTAMP:20180216T041015Z
DTSTART:20180303T010000Z
DTEND:20180303T043000Z
SUMMARY:Music: Mick Tenace
END:VEVENT
END:VCALENDAR
