BEGIN:VCALENDAR
VERSION:2.0
PRODID:-//Squarespace Inc/Squarespace 6//v6//EN
BEGIN:VEVENT
UID:5a71236b71c10b8bbab344fe@squarespace.com
DTSTAMP:20180131T020133Z
DTSTART:20180217T010000Z
DTEND:20180217T043000Z
SUMMARY:Music: Tom Routledge
END:VEVENT
END:VCALENDAR
