BEGIN:VCALENDAR
VERSION:2.0
PRODID:-//Squarespace Inc/Squarespace 6//v6//EN
BEGIN:VEVENT
UID:5a7123b6e2c483d0961783e5@squarespace.com
DTSTAMP:20180131T020247Z
DTSTART:20180225T010000Z
DTEND:20180225T043000Z
SUMMARY:Music: Toucan Rock
END:VEVENT
END:VCALENDAR
