BEGIN:VCALENDAR
VERSION:2.0
PRODID:-//Squarespace Inc/Squarespace 6//v6//EN
BEGIN:VEVENT
UID:5a8656fb24a6943b16b0d725@squarespace.com
DTSTAMP:20180216T035914Z
DTSTART:20180422T000000Z
DTEND:20180422T033000Z
SUMMARY:Music: Overtime
END:VEVENT
END:VCALENDAR
