BEGIN:VCALENDAR
VERSION:2.0
PRODID:-//Squarespace Inc/Squarespace 6//v6//EN
BEGIN:VEVENT
UID:5a865c68e4966bc895e73d65@squarespace.com
DTSTAMP:20180216T042219Z
DTSTART:20180624T000000Z
DTEND:20180624T033000Z
SUMMARY:Music: Maurice Milani
END:VEVENT
END:VCALENDAR
