BEGIN:VCALENDAR
VERSION:2.0
PRODID:-//Squarespace Inc/Squarespace 6//v6//EN
BEGIN:VEVENT
UID:5a86573de4966bc895e6489c@squarespace.com
DTSTAMP:20180216T042200Z
DTSTART:20180429T000000Z
DTEND:20180429T033000Z
SUMMARY:Music: Maurice Milani
END:VEVENT
END:VCALENDAR
