BEGIN:VCALENDAR
VERSION:2.0
PRODID:-//Squarespace Inc/Squarespace 6//v6//EN
BEGIN:VEVENT
UID:5a86571c53450abff5badf67@squarespace.com
DTSTAMP:20180216T035948Z
DTSTART:20180428T000000Z
DTEND:20180428T033000Z
SUMMARY:Music: Ray Macartney
END:VEVENT
END:VCALENDAR
