BEGIN:VCALENDAR
VERSION:2.0
PRODID:-//Squarespace Inc/Squarespace 6//v6//EN
BEGIN:VEVENT
UID:5a71233871c10b8bbab338d9@squarespace.com
DTSTAMP:20180131T020045Z
DTSTART:20180210T010000Z
DTEND:20180210T043000Z
SUMMARY:Music: Maurice Milani
END:VEVENT
END:VCALENDAR
