BEGIN:VCALENDAR
VERSION:2.0
PRODID:-//Squarespace Inc/Squarespace 6//v6//EN
BEGIN:VEVENT
UID:5a86565b4192028861308a6c@squarespace.com
DTSTAMP:20180216T035625Z
DTSTART:20180408T000000Z
DTEND:20180408T033000Z
SUMMARY:Music: SCAZ
END:VEVENT
END:VCALENDAR
