BEGIN:VCALENDAR
VERSION:2.0
PRODID:-//Squarespace Inc/Squarespace 6//v6//EN
BEGIN:VEVENT
UID:5a712383e2c483d0961776a4@squarespace.com
DTSTAMP:20180131T020155Z
DTSTART:20180218T010000Z
DTEND:20180218T043000Z
SUMMARY:Music: Nev Milne
END:VEVENT
END:VCALENDAR
