BEGIN:VCALENDAR
VERSION:2.0
PRODID:-//Squarespace Inc/Squarespace 6//v6//EN
BEGIN:VEVENT
UID:5a7122a3ec212dcf0ff2656a@squarespace.com
DTSTAMP:20180131T020024Z
DTSTART:20180204T010000Z
DTEND:20180204T043000Z
SUMMARY:Music: Ray McCartney
END:VEVENT
END:VCALENDAR
